BEGIN:VCALENDAR
VERSION:2.0
PRODID:spatie/icalendar-generator
DESCRIPTION:Events from First Presbyterian Church of Cuero
X-WR-CALDESC:Events from First Presbyterian Church of Cuero
REFRESH-INTERVAL;VALUE=DURATION:PT1440M
X-PUBLISHED-TTL:PT1440M
BEGIN:VTIMEZONE
TZID:Etc/GMT+0
BEGIN:STANDARD
DTSTART:20220215T110000Z
TZOFFSETFROM:+0000
TZOFFSETTO:+0000
END:STANDARD
END:VTIMEZONE
BEGIN:VTIMEZONE
TZID:UTC
BEGIN:STANDARD
DTSTART:20250726T080616Z
TZOFFSETFROM:+0000
TZOFFSETTO:+0000
END:STANDARD
END:VTIMEZONE
BEGIN:VEVENT
UID:842-43
DTSTAMP:20260422T080616Z
SUMMARY:Mount Bethany Baptist Church Benefit Barbeque Chicken Dinner for Pa
 stor Kelvin F. Washington
LOCATION:American Legion Hall 310 S Esplanade St\, Cuero  Cuero Texas 77954
ORGANIZER;CN=FPC_Admin:MAILTO:info@agencymarketingstaff.com
DTSTART;TZID=Etc/GMT+0:20221112T110000
DTEND;TZID=Etc/GMT+0:20221112T120000
X-ALT-DESC;FMTTYPE=TEXT/HTML:Mount Bethany Baptist Church Benefit Community
  Barbeque Chicken Dinner for Pastor Kelvin F. Washington Saturday\, Nov. 1
 2\, 2022 11:00 a.m. American Legion Hall\, Cuero Cost $15 per ticket\; don
 ations also accepted. Contact: Rev. Jerome Hardy at 361-243-7152 First Pre
 sbyterian Church of Cuero has tickets for sale. Please call 361-275-2662 t
 o learn more.
CATEGORIES:General
URL;VALUE=URI:https://cuerofpc.org/mc-events/mount-bethany-baptist-church-b
 enefit-barbeque-chicken-dinner-for-pastor-kelvin-f-washington/
METHOD:PUBLISH
END:VEVENT
END:VCALENDAR