BEGIN:VCALENDAR
VERSION:2.0
PRODID:spatie/icalendar-generator
DESCRIPTION:Events from First Presbyterian Church of Cuero
X-WR-CALDESC:Events from First Presbyterian Church of Cuero
REFRESH-INTERVAL;VALUE=DURATION:PT1440M
X-PUBLISHED-TTL:PT1440M
BEGIN:VTIMEZONE
TZID:Etc/GMT+0
BEGIN:STANDARD
DTSTART:20220130T160000Z
TZOFFSETFROM:+0000
TZOFFSETTO:+0000
END:STANDARD
END:VTIMEZONE
BEGIN:VTIMEZONE
TZID:UTC
BEGIN:STANDARD
DTSTART:20250726T214920Z
TZOFFSETFROM:+0000
TZOFFSETTO:+0000
END:STANDARD
END:VTIMEZONE
BEGIN:VEVENT
UID:836-33
DTSTAMP:20260422T214920Z
SUMMARY:Community Pumpkin Patch
LOCATION:First Presbyterian Church of Cuero 302 N. McLeod  Cuero TX 77954
ORGANIZER;CN=FPC_Admin:MAILTO:info@agencymarketingstaff.com
RRULE:FREQ=DAILY;UNTIL=20221030T000000Z
DTSTART;TZID=Etc/GMT+0:20221027T160000
DTEND;TZID=Etc/GMT+0:20221027T180000
X-ALT-DESC;FMTTYPE=TEXT/HTML:Community Pumpkin Patch Wednesday\, Oct. 12 - 
 Sunday\, Oct. 30th On the grounds of First Presbyterian Church of Cuero\, 
 302 N. McLeod FPC of Cuero Invites You to Visit the Pumpkin Patch! Opening
  Oct. 12\, visit the Pumpkin Patch\, take photos and make memories! Held o
 n the grounds of First Presbyterian Church of Cuero\, Downtown&amp;hellip\;
CATEGORIES:General
URL;VALUE=URI:https://cuerofpc.org/mc-events/community-pumpkin-patch/?mc_id
 =836
METHOD:PUBLISH
END:VEVENT
END:VCALENDAR